BEGIN:VCALENDAR
VERSION:2.0
PRODID:-//Elements India - ECPv6.15.20//NONSGML v1.0//EN
CALSCALE:GREGORIAN
METHOD:PUBLISH
X-WR-CALNAME:Elements India
X-ORIGINAL-URL:https://kpde.in
X-WR-CALDESC:Events for Elements India
REFRESH-INTERVAL;VALUE=DURATION:PT1H
X-Robots-Tag:noindex
X-PUBLISHED-TTL:PT1H
BEGIN:VTIMEZONE
TZID:UTC
BEGIN:STANDARD
TZOFFSETFROM:+0000
TZOFFSETTO:+0000
TZNAME:UTC
DTSTART:20210101T000000
END:STANDARD
END:VTIMEZONE
BEGIN:VEVENT
DTSTART;TZID=UTC:20220429T103000
DTEND;TZID=UTC:20220430T120000
DTSTAMP:20260421T070005
CREATED:20200428T132335Z
LAST-MODIFIED:20230906T102309Z
UID:1196-1651228200-1651320000@kpde.in
SUMMARY:Elements 0.1
DESCRIPTION:In April 2022\, a few friends got together and decided to host a small-scale jam\, for which we made an instagram page and using word of mouth outreach invited people a private space in New Delhi. All done within the time-span of two weeks\, since we envisioned it as a sort of guerrilla jam\, Elements 0.1 was a volunteer-based event\, where we secured basic production funding from a few friends-sponsors. 
URL:https://kpde.in/event/elements01/
LOCATION:Tushar dixit Studio\, New Delhi\, New Delhi\, New Delhi\, 110017\, India
CATEGORIES:Festival,Hiphop Jam
ATTACH;FMTTYPE=image/jpeg:https://kpde.in/wp-content/uploads/2023/09/DSC01542_11zon-scaled.jpg
ORGANIZER;CN="Team Elements":MAILTO:hey.elements@gmail.com
END:VEVENT
END:VCALENDAR